BEGIN:VCALENDAR
VERSION:2.0
PRODID:-//Tukios.com/
BEGIN:VEVENT
UID:f0d03cae-34d8-46d3-a50f-c8ef8cac9596@www.grfuneralhome.net
DTSTAMP:20260423T223324Z
DTSTART:20260428
SUMMARY:Interment
DESCRIPTION:
URL:https://www.grfuneralhome.net/obituaries/ernest-truax
LOCATION: 12653 Park Head Rd  Big Pool MD 21711
GEO:39.6590707;-78.055141
END:VEVENT
END:VCALENDAR