BEGIN:VCALENDAR
VERSION:2.0
PRODID:-//Tukios.com/
BEGIN:VEVENT
UID:27641fdb-94a9-4284-b25e-a47dd6fa9f2d@www.grfuneralhome.net
DTSTAMP:20260423T223324Z
DTSTART:20260428T170000Z
DTEND:20260428T180000Z
SUMMARY:Funeral Service
DESCRIPTION:
URL:https://www.grfuneralhome.net/obituaries/ernest-truax
LOCATION: 7528 Millstone Rd  Hancock MD 21750
GEO:39.6897702;-78.1183576
END:VEVENT
END:VCALENDAR