BEGIN:VCALENDAR
VERSION:2.0
PRODID:-//Tukios.com/
BEGIN:VEVENT
UID:2328abdd-b523-467c-80ba-8278151a48ff@www.grfuneralhome.net
DTSTAMP:20260423T223211Z
DTSTART:20260428T140000Z
DTEND:20260428T170000Z
SUMMARY:Viewing
DESCRIPTION:
URL:https://www.grfuneralhome.net/obituaries/ernest-truax
LOCATION: 7528 Millstone Rd  Hancock MD 21750
GEO:39.6897702;-78.1183576
END:VEVENT
END:VCALENDAR